BEGIN:VCALENDAR
VERSION:2.0
PRODID:-//Weston-super-Mare Town Council - ECPv6.15.20//NONSGML v1.0//EN
CALSCALE:GREGORIAN
METHOD:PUBLISH
X-WR-CALNAME:Weston-super-Mare Town Council
X-ORIGINAL-URL:https://wsm-tc.gov.uk
X-WR-CALDESC:Events for Weston-super-Mare Town Council
REFRESH-INTERVAL;VALUE=DURATION:PT1H
X-Robots-Tag:noindex
X-PUBLISHED-TTL:PT1H
BEGIN:VTIMEZONE
TZID:Europe/London
BEGIN:DAYLIGHT
TZOFFSETFROM:+0000
TZOFFSETTO:+0100
TZNAME:BST
DTSTART:20210328T010000
END:DAYLIGHT
BEGIN:STANDARD
TZOFFSETFROM:+0100
TZOFFSETTO:+0000
TZNAME:GMT
DTSTART:20211031T010000
END:STANDARD
BEGIN:DAYLIGHT
TZOFFSETFROM:+0000
TZOFFSETTO:+0100
TZNAME:BST
DTSTART:20220327T010000
END:DAYLIGHT
BEGIN:STANDARD
TZOFFSETFROM:+0100
TZOFFSETTO:+0000
TZNAME:GMT
DTSTART:20221030T010000
END:STANDARD
BEGIN:DAYLIGHT
TZOFFSETFROM:+0000
TZOFFSETTO:+0100
TZNAME:BST
DTSTART:20230326T010000
END:DAYLIGHT
BEGIN:STANDARD
TZOFFSETFROM:+0100
TZOFFSETTO:+0000
TZNAME:GMT
DTSTART:20231029T010000
END:STANDARD
END:VTIMEZONE
BEGIN:VEVENT
DTSTART;TZID=Europe/London:20220402T190000
DTEND;TZID=Europe/London:20220403T003000
DTSTAMP:20260419T151455
CREATED:20220330T124158Z
LAST-MODIFIED:20220330T124829Z
UID:4109-1648926000-1648945800@wsm-tc.gov.uk
SUMMARY:The Mayor Will Be Hosting The Annual Charity Ball
DESCRIPTION:
URL:https://wsm-tc.gov.uk/event/the-mayor-will-be-hosting-the-annual-charity-ball/
LOCATION:The Grand Pier
END:VEVENT
BEGIN:VEVENT
DTSTART;TZID=Europe/London:20220403T183000
DTEND;TZID=Europe/London:20220403T210000
DTSTAMP:20260419T151455
CREATED:20220330T124410Z
LAST-MODIFIED:20220330T124932Z
UID:4112-1649010600-1649019600@wsm-tc.gov.uk
SUMMARY:The Mayor Will Be Attending The Dance Company Show
DESCRIPTION:
URL:https://wsm-tc.gov.uk/event/the-mayor-will-be-attending-the-dance-company-show/
LOCATION:The Playhouse
END:VEVENT
END:VCALENDAR