BEGIN:VCALENDAR
VERSION:2.0
PRODID:-//Weston-super-Mare Town Council - ECPv6.15.20//NONSGML v1.0//EN
CALSCALE:GREGORIAN
METHOD:PUBLISH
X-ORIGINAL-URL:https://wsm-tc.gov.uk
X-WR-CALDESC:Events for Weston-super-Mare Town Council
REFRESH-INTERVAL;VALUE=DURATION:PT1H
X-Robots-Tag:noindex
X-PUBLISHED-TTL:PT1H
BEGIN:VTIMEZONE
TZID:Europe/London
BEGIN:DAYLIGHT
TZOFFSETFROM:+0000
TZOFFSETTO:+0100
TZNAME:BST
DTSTART:20210328T010000
END:DAYLIGHT
BEGIN:STANDARD
TZOFFSETFROM:+0100
TZOFFSETTO:+0000
TZNAME:GMT
DTSTART:20211031T010000
END:STANDARD
BEGIN:DAYLIGHT
TZOFFSETFROM:+0000
TZOFFSETTO:+0100
TZNAME:BST
DTSTART:20220327T010000
END:DAYLIGHT
BEGIN:STANDARD
TZOFFSETFROM:+0100
TZOFFSETTO:+0000
TZNAME:GMT
DTSTART:20221030T010000
END:STANDARD
BEGIN:DAYLIGHT
TZOFFSETFROM:+0000
TZOFFSETTO:+0100
TZNAME:BST
DTSTART:20230326T010000
END:DAYLIGHT
BEGIN:STANDARD
TZOFFSETFROM:+0100
TZOFFSETTO:+0000
TZNAME:GMT
DTSTART:20231029T010000
END:STANDARD
END:VTIMEZONE
BEGIN:VEVENT
DTSTART;TZID=Europe/London:20220519T050000
DTEND;TZID=Europe/London:20220519T183000
DTSTAMP:20260421T123326
CREATED:20210618T122256Z
LAST-MODIFIED:20210618T122256Z
UID:3265-1652936400-1652985000@wsm-tc.gov.uk
SUMMARY:Annual Council Meeting
DESCRIPTION:Venue TBA subject to COVID restrictions \nAgenda & Reports 
URL:https://wsm-tc.gov.uk/event/annual-council-meeting/
CATEGORIES:Town Council
END:VEVENT
BEGIN:VEVENT
DTSTART;TZID=Europe/London:20220519T180000
DTEND;TZID=Europe/London:20220519T190000
DTSTAMP:20260421T123326
CREATED:20220304T111745Z
LAST-MODIFIED:20220304T111745Z
UID:4029-1652983200-1652986800@wsm-tc.gov.uk
SUMMARY:Annual Council Meeting & Ceremony of Mayor Making
DESCRIPTION:
URL:https://wsm-tc.gov.uk/event/annual-council-meeting-ceremony-of-mayor-making/
CATEGORIES:Town Council
END:VEVENT
END:VCALENDAR