BEGIN:VCALENDAR
VERSION:2.0
PRODID:-//Weston-super-Mare Town Council - ECPv6.15.20//NONSGML v1.0//EN
CALSCALE:GREGORIAN
METHOD:PUBLISH
X-ORIGINAL-URL:https://wsm-tc.gov.uk
X-WR-CALDESC:Events for Weston-super-Mare Town Council
REFRESH-INTERVAL;VALUE=DURATION:PT1H
X-Robots-Tag:noindex
X-PUBLISHED-TTL:PT1H
BEGIN:VTIMEZONE
TZID:Europe/London
BEGIN:DAYLIGHT
TZOFFSETFROM:+0000
TZOFFSETTO:+0100
TZNAME:BST
DTSTART:20230326T010000
END:DAYLIGHT
BEGIN:STANDARD
TZOFFSETFROM:+0100
TZOFFSETTO:+0000
TZNAME:GMT
DTSTART:20231029T010000
END:STANDARD
BEGIN:DAYLIGHT
TZOFFSETFROM:+0000
TZOFFSETTO:+0100
TZNAME:BST
DTSTART:20240331T010000
END:DAYLIGHT
BEGIN:STANDARD
TZOFFSETFROM:+0100
TZOFFSETTO:+0000
TZNAME:GMT
DTSTART:20241027T010000
END:STANDARD
BEGIN:DAYLIGHT
TZOFFSETFROM:+0000
TZOFFSETTO:+0100
TZNAME:BST
DTSTART:20250330T010000
END:DAYLIGHT
BEGIN:STANDARD
TZOFFSETFROM:+0100
TZOFFSETTO:+0000
TZNAME:GMT
DTSTART:20251026T010000
END:STANDARD
END:VTIMEZONE
BEGIN:VEVENT
DTSTART;TZID=Europe/London:20240815T110000
DTEND;TZID=Europe/London:20240815T140000
DTSTAMP:20260421T123414
CREATED:20240722T133646Z
LAST-MODIFIED:20240722T140140Z
UID:6997-1723719600-1723730400@wsm-tc.gov.uk
SUMMARY:Inviting you to ‘Quarry Conversations’ your voice on the Old Town Quarry.
DESCRIPTION:We are delighted to invite you to join us for our fourth ‘Quarry Conversations’ event – your voice on the Old Town Quarry. \nAs Weston super Mare Town Council takes over the lease of the Old Town Quarry site\, this event continues the series of community engagement sessions where you can share your ideas and aspirations for the Quarry. \nThese events are being held at different times\, at different venues and in different formats in Weston to provide opportunities for more residents and community groups to find out about the project and get involved. \nEvent Details \nDate: Thursday 15th August \nTime: Drop-in and talk to Town Council staff from 11.00am to 2.00pm (no need to RSVP) \nVenue: Theatre Bar\, ground floor of Blakehay Theatre\, 20 Wadham St\, Weston-super-Mare\, BS23 1JZ \nhttps://blakehaytheatre.co.uk/ \nPLEASE NOTE: This drop-in session will share the same information provided at the June and July Quarry Conversations events – but if you joined us before and would like to come along\, or accompany someone who hasn’t been before\, you are very welcome to drop in and talk to us \n. \nSo please let other people who might be interested know about this Quarry Conversations drop-in too! \nAnd to make sure you stay updated and continue to receive invitations to future meetings about the Quarry\, please join our mailing list: http://eepurl.com/iP9du2. \nWe look forward to seeing you in August.
URL:https://wsm-tc.gov.uk/event/inviting-you-to-quarry-conversations-your-voice-on-the-old-town-quarry-4/
LOCATION:The Blakehay Theatre\, 20 Wadham Street\, Weston-super-Mare\, BS23 1JZ\, United Kingdom
CATEGORIES:Council Diary
ATTACH;FMTTYPE=image/png:https://wsm-tc.gov.uk/wp-content/uploads/2024/07/Quarry.png
END:VEVENT
END:VCALENDAR