BEGIN:VCALENDAR
VERSION:2.0
PRODID:-//Weston-super-Mare Town Council - ECPv6.15.20//NONSGML v1.0//EN
CALSCALE:GREGORIAN
METHOD:PUBLISH
X-WR-CALNAME:Weston-super-Mare Town Council
X-ORIGINAL-URL:https://wsm-tc.gov.uk
X-WR-CALDESC:Events for Weston-super-Mare Town Council
REFRESH-INTERVAL;VALUE=DURATION:PT1H
X-Robots-Tag:noindex
X-PUBLISHED-TTL:PT1H
BEGIN:VTIMEZONE
TZID:Europe/London
BEGIN:DAYLIGHT
TZOFFSETFROM:+0000
TZOFFSETTO:+0100
TZNAME:BST
DTSTART:20230326T010000
END:DAYLIGHT
BEGIN:STANDARD
TZOFFSETFROM:+0100
TZOFFSETTO:+0000
TZNAME:GMT
DTSTART:20231029T010000
END:STANDARD
BEGIN:DAYLIGHT
TZOFFSETFROM:+0000
TZOFFSETTO:+0100
TZNAME:BST
DTSTART:20240331T010000
END:DAYLIGHT
BEGIN:STANDARD
TZOFFSETFROM:+0100
TZOFFSETTO:+0000
TZNAME:GMT
DTSTART:20241027T010000
END:STANDARD
BEGIN:DAYLIGHT
TZOFFSETFROM:+0000
TZOFFSETTO:+0100
TZNAME:BST
DTSTART:20250330T010000
END:DAYLIGHT
BEGIN:STANDARD
TZOFFSETFROM:+0100
TZOFFSETTO:+0000
TZNAME:GMT
DTSTART:20251026T010000
END:STANDARD
END:VTIMEZONE
BEGIN:VEVENT
DTSTART;TZID=Europe/London:20240403T190000
DTEND;TZID=Europe/London:20240403T210000
DTSTAMP:20260420T163122
CREATED:20230602T134411Z
LAST-MODIFIED:20230602T134411Z
UID:5714-1712170800-1712178000@wsm-tc.gov.uk
SUMMARY:Planning Committee
DESCRIPTION:Committee Agendas & Minutes
URL:https://wsm-tc.gov.uk/event/planning-committee-29/
LOCATION:Grove House
CATEGORIES:Planning Committee
END:VEVENT
END:VCALENDAR