BEGIN:VCALENDAR
VERSION:2.0
PRODID:-//Weston-super-Mare Town Council - ECPv6.15.20//NONSGML v1.0//EN
CALSCALE:GREGORIAN
METHOD:PUBLISH
X-WR-CALNAME:Weston-super-Mare Town Council
X-ORIGINAL-URL:https://wsm-tc.gov.uk
X-WR-CALDESC:Events for Weston-super-Mare Town Council
REFRESH-INTERVAL;VALUE=DURATION:PT1H
X-Robots-Tag:noindex
X-PUBLISHED-TTL:PT1H
BEGIN:VTIMEZONE
TZID:Europe/London
BEGIN:DAYLIGHT
TZOFFSETFROM:+0000
TZOFFSETTO:+0100
TZNAME:BST
DTSTART:20220327T010000
END:DAYLIGHT
BEGIN:STANDARD
TZOFFSETFROM:+0100
TZOFFSETTO:+0000
TZNAME:GMT
DTSTART:20221030T010000
END:STANDARD
BEGIN:DAYLIGHT
TZOFFSETFROM:+0000
TZOFFSETTO:+0100
TZNAME:BST
DTSTART:20230326T010000
END:DAYLIGHT
BEGIN:STANDARD
TZOFFSETFROM:+0100
TZOFFSETTO:+0000
TZNAME:GMT
DTSTART:20231029T010000
END:STANDARD
BEGIN:DAYLIGHT
TZOFFSETFROM:+0000
TZOFFSETTO:+0100
TZNAME:BST
DTSTART:20240331T010000
END:DAYLIGHT
BEGIN:STANDARD
TZOFFSETFROM:+0100
TZOFFSETTO:+0000
TZNAME:GMT
DTSTART:20241027T010000
END:STANDARD
END:VTIMEZONE
BEGIN:VEVENT
DTSTART;TZID=Europe/London:20230823T100000
DTEND;TZID=Europe/London:20230823T170000
DTSTAMP:20260423T130434
CREATED:20230822T101419Z
LAST-MODIFIED:20230822T101419Z
UID:6052-1692784800-1692810000@wsm-tc.gov.uk
SUMMARY:The Mayor Will Be Attending RNLI Funday
DESCRIPTION:
URL:https://wsm-tc.gov.uk/event/the-mayor-will-be-attending-rnli-funday/
LOCATION:Seafront
CATEGORIES:Council Diary,Mayor's Diary
ATTACH;FMTTYPE=image/png:https://wsm-tc.gov.uk/wp-content/uploads/2023/08/download.png
END:VEVENT
END:VCALENDAR