BEGIN:VCALENDAR
VERSION:2.0
PRODID:-//Weston-super-Mare Town Council - ECPv6.15.20//NONSGML v1.0//EN
CALSCALE:GREGORIAN
METHOD:PUBLISH
X-WR-CALNAME:Weston-super-Mare Town Council
X-ORIGINAL-URL:https://wsm-tc.gov.uk
X-WR-CALDESC:Events for Weston-super-Mare Town Council
REFRESH-INTERVAL;VALUE=DURATION:PT1H
X-Robots-Tag:noindex
X-PUBLISHED-TTL:PT1H
BEGIN:VTIMEZONE
TZID:Europe/London
BEGIN:DAYLIGHT
TZOFFSETFROM:+0000
TZOFFSETTO:+0100
TZNAME:BST
DTSTART:20210328T010000
END:DAYLIGHT
BEGIN:STANDARD
TZOFFSETFROM:+0100
TZOFFSETTO:+0000
TZNAME:GMT
DTSTART:20211031T010000
END:STANDARD
BEGIN:DAYLIGHT
TZOFFSETFROM:+0000
TZOFFSETTO:+0100
TZNAME:BST
DTSTART:20220327T010000
END:DAYLIGHT
BEGIN:STANDARD
TZOFFSETFROM:+0100
TZOFFSETTO:+0000
TZNAME:GMT
DTSTART:20221030T010000
END:STANDARD
BEGIN:DAYLIGHT
TZOFFSETFROM:+0000
TZOFFSETTO:+0100
TZNAME:BST
DTSTART:20230326T010000
END:DAYLIGHT
BEGIN:STANDARD
TZOFFSETFROM:+0100
TZOFFSETTO:+0000
TZNAME:GMT
DTSTART:20231029T010000
END:STANDARD
END:VTIMEZONE
BEGIN:VEVENT
DTSTART;TZID=Europe/London:20220402T190000
DTEND;TZID=Europe/London:20220403T003000
DTSTAMP:20260423T112413
CREATED:20220330T124158Z
LAST-MODIFIED:20220330T124829Z
UID:4109-1648926000-1648945800@wsm-tc.gov.uk
SUMMARY:The Mayor Will Be Hosting The Annual Charity Ball
DESCRIPTION:
URL:https://wsm-tc.gov.uk/event/the-mayor-will-be-hosting-the-annual-charity-ball/
LOCATION:The Grand Pier
END:VEVENT
BEGIN:VEVENT
DTSTART;TZID=Europe/London:20220403T183000
DTEND;TZID=Europe/London:20220403T210000
DTSTAMP:20260423T112413
CREATED:20220330T124410Z
LAST-MODIFIED:20220330T124932Z
UID:4112-1649010600-1649019600@wsm-tc.gov.uk
SUMMARY:The Mayor Will Be Attending The Dance Company Show
DESCRIPTION:
URL:https://wsm-tc.gov.uk/event/the-mayor-will-be-attending-the-dance-company-show/
LOCATION:The Playhouse
END:VEVENT
BEGIN:VEVENT
DTSTART;TZID=Europe/London:20220406T080000
DTEND;TZID=Europe/London:20220406T220000
DTSTAMP:20260423T112413
CREATED:20220304T110529Z
LAST-MODIFIED:20220304T110529Z
UID:4016-1649232000-1649282400@wsm-tc.gov.uk
SUMMARY:Planning Committee
DESCRIPTION:
URL:https://wsm-tc.gov.uk/event/planning-committee-2/
LOCATION:Grove House
CATEGORIES:Planning Committee
END:VEVENT
BEGIN:VEVENT
DTSTART;TZID=Europe/London:20220412T153000
DTEND;TZID=Europe/London:20220412T173000
DTSTAMP:20260423T112413
CREATED:20220304T110934Z
LAST-MODIFIED:20220304T112105Z
UID:4018-1649777400-1649784600@wsm-tc.gov.uk
SUMMARY:Tourism & Leisure Committee
DESCRIPTION:
URL:https://wsm-tc.gov.uk/event/tourism-leisure-committee/
LOCATION:The Blakehay Theatre\, 20 Wadham Street\, Weston-super-Mare\, BS23 1JZ\, United Kingdom
CATEGORIES:Tourism & Leisure Committee
END:VEVENT
BEGIN:VEVENT
DTSTART;TZID=Europe/London:20220412T200000
DTEND;TZID=Europe/London:20220412T220000
DTSTAMP:20260423T112413
CREATED:20220411T154141Z
LAST-MODIFIED:20220411T154141Z
UID:4241-1649793600-1649800800@wsm-tc.gov.uk
SUMMARY:The Mayor will be attending Ramadan Celebration
DESCRIPTION:
URL:https://wsm-tc.gov.uk/event/the-mayor-will-be-attending-ramadan-celebration/
LOCATION:Weston FootballClub
END:VEVENT
BEGIN:VEVENT
DTSTART;TZID=Europe/London:20220425T200000
DTEND;TZID=Europe/London:20220425T220000
DTSTAMP:20260423T112413
CREATED:20220304T111243Z
LAST-MODIFIED:20220304T112015Z
UID:4021-1650916800-1650924000@wsm-tc.gov.uk
SUMMARY:Policy & Finance Committee
DESCRIPTION:
URL:https://wsm-tc.gov.uk/event/policy-finance-committee-2/
LOCATION:The Blakehay Theatre\, 20 Wadham Street\, Weston-super-Mare\, BS23 1JZ\, United Kingdom
CATEGORIES:Policy & Finance Committee
END:VEVENT
BEGIN:VEVENT
DTSTART;TZID=Europe/London:20220426T180000
DTEND;TZID=Europe/London:20220426T193000
DTSTAMP:20260423T112413
CREATED:20220214T102554Z
LAST-MODIFIED:20220214T102554Z
UID:3948-1650996000-1651001400@wsm-tc.gov.uk
SUMMARY:Anti-Racism working group
DESCRIPTION:We hold community meetings on the last Tuesday of every month via zoom. If you would like to attend these meetings\, please email becky.walsh@wsm-tc.gov.uk \nThis group is community lead and is currently working with – \n\nMulticultural friendship association promotes companionship\, tolerance\, respect\, solidarity and mutual trust and understanding through learning about our different cultures\, traditions and beliefs. The Town Council along with other organisations sponsors this association and The Mayor is Patron in Perpetuity.\nThe Black and Minority Ethnic (BME) Network aims to reach people from black and minority ethnic backgrounds in North Somerset\, to ensure they are receiving appropriate services and support. They are a focal point for the BME voluntary sector\, promote joint working between different minority ethnic groups\, increase their engagement with public agencies and promote positive race relations.\nBlack Lives Matter Weston-super-Mare is a group for\, in solidarity with and supporting Weston-super-Mare’s BAME community and BAME folks around the world. End white silence. Speak up and demand an end to racism.\nSARI provides free and confidential support for anyone who is a victim of hate crime. Everyone has the right to live without fear or hate.\nNorth Somerset Council A number of interested people including the inclusion and Corporate Development Assistant.\nNSPA – North Somerset Polish Association Grupa poświęconą polskosci\, kulturze\, sztuce\, polskim tradycjom\, oraz historii Polski. Grupa zachęca czlonkow/spolecznosc do promowania polskosci w kazdym jej wymiarze.
URL:https://wsm-tc.gov.uk/event/anti-racism-working-group-3/
CATEGORIES:Anti-Racism,Council Diary
ATTACH;FMTTYPE=image/png:https://wsm-tc.gov.uk/wp-content/uploads/2020/11/Screenshot-2020-11-25-at-11.50.35.png
END:VEVENT
END:VCALENDAR